BEGIN:VCALENDAR
VERSION:2.0
PRODID:-//Masikhulumeni Madoda - ECPv6.10.1//NONSGML v1.0//EN
CALSCALE:GREGORIAN
METHOD:PUBLISH
X-ORIGINAL-URL:https://masikhulumeni.co.za
X-WR-CALDESC:Events for Masikhulumeni Madoda
REFRESH-INTERVAL;VALUE=DURATION:PT1H
X-Robots-Tag:noindex
X-PUBLISHED-TTL:PT1H
BEGIN:VTIMEZONE
TZID:UTC
BEGIN:STANDARD
TZOFFSETFROM:+0000
TZOFFSETTO:+0000
TZNAME:UTC
DTSTART:20220101T000000
END:STANDARD
END:VTIMEZONE
BEGIN:VEVENT
DTSTART;TZID=UTC:20221201T080000
DTEND;TZID=UTC:20221201T170000
DTSTAMP:20260421T054850
CREATED:20220311T103931Z
LAST-MODIFIED:20220311T103931Z
UID:3203-1669881600-1669914000@masikhulumeni.co.za
SUMMARY:HUMAN RIGHTS
DESCRIPTION:
URL:https://masikhulumeni.co.za/event/human-rights/
LOCATION:MATSULU B CARWASH\, Matsulu B\, Mbombela\, Mpumalanga\, 1203\, South Africa
ORGANIZER;CN="COMFORT MDLULI":MAILTO:help@masikhulumeni.co.za
END:VEVENT
BEGIN:VEVENT
DTSTART;TZID=UTC:20221202T080000
DTEND;TZID=UTC:20221202T170000
DTSTAMP:20260421T054850
CREATED:20220311T104220Z
LAST-MODIFIED:20220311T104220Z
UID:3206-1669968000-1670000400@masikhulumeni.co.za
SUMMARY:16 DAYS OF ACTIVISM (GBV)
DESCRIPTION:
URL:https://masikhulumeni.co.za/event/16-days-of-activism-gbv/
LOCATION:MATSULU A HALL\, Matsulu A\, Mbombela\, 1203\, South Africa
END:VEVENT
BEGIN:VEVENT
DTSTART;TZID=UTC:20221205T080000
DTEND;TZID=UTC:20221205T170000
DTSTAMP:20260421T054850
CREATED:20220311T104439Z
LAST-MODIFIED:20220311T104439Z
UID:3209-1670227200-1670259600@masikhulumeni.co.za
SUMMARY:HOUSE BREAKING AND STALKING
DESCRIPTION:
URL:https://masikhulumeni.co.za/event/house-breaking-and-stalking/
LOCATION:Door to Door C\, Matsulu C\, Mbombela\, Mpumalanga\, 1203\, South Africa
END:VEVENT
BEGIN:VEVENT
DTSTART;TZID=UTC:20221206T080000
DTEND;TZID=UTC:20221206T170000
DTSTAMP:20260421T054850
CREATED:20220311T104803Z
LAST-MODIFIED:20220311T104803Z
UID:3211-1670313600-1670346000@masikhulumeni.co.za
SUMMARY:SEXUAL ABUSE
DESCRIPTION:
URL:https://masikhulumeni.co.za/event/sexual-abuse-3/
LOCATION:DOOR TO DOOR MATSULU A\, Matsulu A\, Mbombela\, Mpumalanga\, 1203\, South Africa
END:VEVENT
BEGIN:VEVENT
DTSTART;TZID=UTC:20221206T080000
DTEND;TZID=UTC:20221206T170000
DTSTAMP:20260421T054850
CREATED:20220311T104945Z
LAST-MODIFIED:20220311T104945Z
UID:3213-1670313600-1670346000@masikhulumeni.co.za
SUMMARY:INTERNATIONAL DAY FOR THE DISABLE (GENDER BASED VIOLENCE)
DESCRIPTION:
URL:https://masikhulumeni.co.za/event/international-day-for-the-disable-gender-based-violence/
LOCATION:MASIBAMBISANE DISABLE CENTRE\, Matsulu A\, Mbombela\, Mpumalanga\, 1203\, South Africa
END:VEVENT
END:VCALENDAR