BEGIN:VCALENDAR
VERSION:2.0
PRODID:-//Masikhulumeni Madoda - ECPv6.10.1//NONSGML v1.0//EN
CALSCALE:GREGORIAN
METHOD:PUBLISH
X-WR-CALNAME:Masikhulumeni Madoda
X-ORIGINAL-URL:https://masikhulumeni.co.za
X-WR-CALDESC:Events for Masikhulumeni Madoda
REFRESH-INTERVAL;VALUE=DURATION:PT1H
X-Robots-Tag:noindex
X-PUBLISHED-TTL:PT1H
BEGIN:VTIMEZONE
TZID:UTC
BEGIN:STANDARD
TZOFFSETFROM:+0000
TZOFFSETTO:+0000
TZNAME:UTC
DTSTART:20220101T000000
END:STANDARD
END:VTIMEZONE
BEGIN:VEVENT
DTSTART;TZID=UTC:20221101T080000
DTEND;TZID=UTC:20221101T170000
DTSTAMP:20260421T072549
CREATED:20220311T101645Z
LAST-MODIFIED:20220311T101645Z
UID:3176-1667289600-1667322000@masikhulumeni.co.za
SUMMARY:INTIMIDATION\, HARASSMENT AND STALKING
DESCRIPTION:
URL:https://masikhulumeni.co.za/event/intimidation-harassment-and-stalking/
LOCATION:MATSULU “A” CLINIC\, Matsulu A\, Mbombela\, Mpumalanga\, 1203\, South Africa
END:VEVENT
BEGIN:VEVENT
DTSTART;TZID=UTC:20221104T080000
DTEND;TZID=UTC:20221104T170000
DTSTAMP:20260421T072549
CREATED:20220311T101944Z
LAST-MODIFIED:20220311T101944Z
UID:3183-1667548800-1667581200@masikhulumeni.co.za
SUMMARY:HUMAN TRAFFICKING
DESCRIPTION:
URL:https://masikhulumeni.co.za/event/human-trafficking-5/
LOCATION:SIBONGILE PRIMARY SCHOOL\, MATSULU YOUTH CENTRE\, Mbombela\, Mpumalanga\, 1203\, South Africa
END:VEVENT
BEGIN:VEVENT
DTSTART;TZID=UTC:20221107T000000
DTEND;TZID=UTC:20221107T000000
DTSTAMP:20260421T072549
CREATED:20220311T102703Z
LAST-MODIFIED:20220311T102926Z
UID:3187-1667779200-1667779200@masikhulumeni.co.za
SUMMARY:DOMESTIC VIOLENCE (GBV)
DESCRIPTION:
URL:https://masikhulumeni.co.za/event/__trashed/
LOCATION:KAMASHAYANA COMMUNITY
END:VEVENT
BEGIN:VEVENT
DTSTART;TZID=UTC:20221107T080000
DTEND;TZID=UTC:20221107T170000
DTSTAMP:20260421T072549
CREATED:20220311T102106Z
LAST-MODIFIED:20220311T102106Z
UID:3185-1667808000-1667840400@masikhulumeni.co.za
SUMMARY:BULLYING AT SCHOOL
DESCRIPTION:
URL:https://masikhulumeni.co.za/event/bullying-at-school-2/
LOCATION:MATSULU PRIMARY SCHOOL\, Matsulu A\, Mbombela\, Mpumalanga\, 1203\, South Africa
END:VEVENT
BEGIN:VEVENT
DTSTART;TZID=UTC:20221108T080000
DTEND;TZID=UTC:20221108T170000
DTSTAMP:20260421T072549
CREATED:20220311T103059Z
LAST-MODIFIED:20220311T103059Z
UID:3192-1667894400-1667926800@masikhulumeni.co.za
SUMMARY:ABDUCTION AND FORCED MARRIAGES
DESCRIPTION:
URL:https://masikhulumeni.co.za/event/abduction-and-forced-marriages/
LOCATION:PHUMALANGA PRIMARY SCHOOL\, Matsulu A\, Mbombela\, Mpumalanga\, 1203\, South Africa
ORGANIZER;CN="COMFORT MDLULI":MAILTO:help@masikhulumeni.co.za
END:VEVENT
BEGIN:VEVENT
DTSTART;TZID=UTC:20221110T080000
DTEND;TZID=UTC:20221110T170000
DTSTAMP:20260421T072549
CREATED:20220311T103251Z
LAST-MODIFIED:20220311T103251Z
UID:3194-1668067200-1668099600@masikhulumeni.co.za
SUMMARY:DOMESTIC VIOLENCE
DESCRIPTION:
URL:https://masikhulumeni.co.za/event/domestic-violence-5/
LOCATION:KAMASHAYANA FARM
END:VEVENT
BEGIN:VEVENT
DTSTART;TZID=UTC:20221115T080000
DTEND;TZID=UTC:20221115T170000
DTSTAMP:20260421T072549
CREATED:20220311T103518Z
LAST-MODIFIED:20220311T103518Z
UID:3197-1668499200-1668531600@masikhulumeni.co.za
SUMMARY:PHYSICAL ABUSE
DESCRIPTION:
URL:https://masikhulumeni.co.za/event/physical-abuse-3/
LOCATION:MATSULU A COMPLEX\, Matsulu A\, Mbombela\, 1203\, South Africa
END:VEVENT
BEGIN:VEVENT
DTSTART;TZID=UTC:20221121T080000
DTEND;TZID=UTC:20221121T170000
DTSTAMP:20260421T072549
CREATED:20220311T103730Z
LAST-MODIFIED:20220311T103730Z
UID:3200-1669017600-1669050000@masikhulumeni.co.za
SUMMARY:DOMESTIC VIOLENCE
DESCRIPTION:
URL:https://masikhulumeni.co.za/event/domestic-violence-6/
LOCATION:MASIBAMBISANE DISABLE CENTRE\, Matsulu A\, Mbombela\, Mpumalanga\, 1203\, South Africa
END:VEVENT
END:VCALENDAR