BEGIN:VCALENDAR
VERSION:2.0
PRODID:-//Masikhulumeni Madoda - ECPv6.10.1//NONSGML v1.0//EN
CALSCALE:GREGORIAN
METHOD:PUBLISH
X-WR-CALNAME:Masikhulumeni Madoda
X-ORIGINAL-URL:https://masikhulumeni.co.za
X-WR-CALDESC:Events for Masikhulumeni Madoda
REFRESH-INTERVAL;VALUE=DURATION:PT1H
X-Robots-Tag:noindex
X-PUBLISHED-TTL:PT1H
BEGIN:VTIMEZONE
TZID:UTC
BEGIN:STANDARD
TZOFFSETFROM:+0000
TZOFFSETTO:+0000
TZNAME:UTC
DTSTART:20220101T000000
END:STANDARD
END:VTIMEZONE
BEGIN:VEVENT
DTSTART;TZID=UTC:20220802T080000
DTEND;TZID=UTC:20220802T170000
DTSTAMP:20260421T122054
CREATED:20220311T093148Z
LAST-MODIFIED:20220311T093148Z
UID:3116-1659427200-1659459600@masikhulumeni.co.za
SUMMARY:INTIMATE PARTNER VIOLENCE (GBV)
DESCRIPTION:
URL:https://masikhulumeni.co.za/event/intimate-partner-violence-gbv/
LOCATION:PHOLA NTSIKAZI CLINIC\, Kamashayane\, Mbombela\, Mpumalanga\, 1202\, South Africa
END:VEVENT
BEGIN:VEVENT
DTSTART;TZID=UTC:20220804T080000
DTEND;TZID=UTC:20220804T170000
DTSTAMP:20260421T122054
CREATED:20220311T093326Z
LAST-MODIFIED:20220311T093326Z
UID:3119-1659600000-1659632400@masikhulumeni.co.za
SUMMARY:PHYSICAL ABUSE (ASSAULT)
DESCRIPTION:
URL:https://masikhulumeni.co.za/event/physical-abuse-assault/
LOCATION:MATSULU CROSSINGS\, MATSULU YOUTH CENTRE\, Mbombela\, Mpumalanga\, 1203\, South Africa
END:VEVENT
BEGIN:VEVENT
DTSTART;TZID=UTC:20220813T080000
DTEND;TZID=UTC:20220813T170000
DTSTAMP:20260421T122054
CREATED:20220311T093510Z
LAST-MODIFIED:20220311T093510Z
UID:3122-1660377600-1660410000@masikhulumeni.co.za
SUMMARY:AWARENESS CAMPAIGN ON WOMEN’S DAY (WOMEN’ DIALOGUE)
DESCRIPTION:
URL:https://masikhulumeni.co.za/event/awareness-campaign-on-womens-day-women-dialogue/
LOCATION:COMMUNITY HALL\, Matsulu B\, Mbombela\, Mpumalanga\, 1203\, South Africa
END:VEVENT
BEGIN:VEVENT
DTSTART;TZID=UTC:20220816T080000
DTEND;TZID=UTC:20220816T170000
DTSTAMP:20260421T122054
CREATED:20220311T093649Z
LAST-MODIFIED:20220311T093649Z
UID:3125-1660636800-1660669200@masikhulumeni.co.za
SUMMARY:EMOTIONAL ABUSE
DESCRIPTION:
URL:https://masikhulumeni.co.za/event/emotional-abuse-2/
LOCATION:SHOPRITE USAVE COMPLEX\, Matsulu B\, Mbombela\, Mpumalanga\, 1203\, South Africa
END:VEVENT
BEGIN:VEVENT
DTSTART;TZID=UTC:20220817T080000
DTEND;TZID=UTC:20220817T170000
DTSTAMP:20260421T122054
CREATED:20220311T093800Z
LAST-MODIFIED:20220311T094152Z
UID:3128-1660723200-1660755600@masikhulumeni.co.za
SUMMARY:HUMAN TRAFFICKING
DESCRIPTION:
URL:https://masikhulumeni.co.za/event/human-trafficking-4/
LOCATION:SEHLULILE  PRIMARY SCHOOL\, Matsulu B\, Mbombela\, Mpumalanga\, 1203\, South Africa
END:VEVENT
BEGIN:VEVENT
DTSTART;TZID=UTC:20220818T080000
DTEND;TZID=UTC:20220818T170000
DTSTAMP:20260421T122054
CREATED:20220311T093922Z
LAST-MODIFIED:20220311T093922Z
UID:3131-1660809600-1660842000@masikhulumeni.co.za
SUMMARY:MENTAL ABUSE
DESCRIPTION:
URL:https://masikhulumeni.co.za/event/mental-abuse/
LOCATION:ENZANI PRIMARY SCHOOL\, Matsulu A\, Mbombela\, Mpumalanga\, 1203\, South Africa
END:VEVENT
END:VCALENDAR