BEGIN:VCALENDAR
VERSION:2.0
PRODID:-//Masikhulumeni Madoda - ECPv6.10.1//NONSGML v1.0//EN
CALSCALE:GREGORIAN
METHOD:PUBLISH
X-WR-CALNAME:Masikhulumeni Madoda
X-ORIGINAL-URL:https://masikhulumeni.co.za
X-WR-CALDESC:Events for Masikhulumeni Madoda
REFRESH-INTERVAL;VALUE=DURATION:PT1H
X-Robots-Tag:noindex
X-PUBLISHED-TTL:PT1H
BEGIN:VTIMEZONE
TZID:UTC
BEGIN:STANDARD
TZOFFSETFROM:+0000
TZOFFSETTO:+0000
TZNAME:UTC
DTSTART:20220101T000000
END:STANDARD
END:VTIMEZONE
BEGIN:VEVENT
DTSTART;TZID=UTC:20220705T080000
DTEND;TZID=UTC:20220705T170000
DTSTAMP:20260421T135652
CREATED:20220311T091335Z
LAST-MODIFIED:20220311T091335Z
UID:3087-1657008000-1657040400@masikhulumeni.co.za
SUMMARY:GENDER BASED VIOLENCE
DESCRIPTION:
URL:https://masikhulumeni.co.za/event/gender-based-violence/
LOCATION:MOYENI MALL\, PIENAAR\, Mbombela\, Mpumalanga\, 1202\, South Africa
END:VEVENT
BEGIN:VEVENT
DTSTART;TZID=UTC:20220705T080000
DTEND;TZID=UTC:20220705T170000
DTSTAMP:20260421T135652
CREATED:20220311T091501Z
LAST-MODIFIED:20220311T091501Z
UID:3090-1657008000-1657040400@masikhulumeni.co.za
SUMMARY:FINACIAL ABUSE
DESCRIPTION:
URL:https://masikhulumeni.co.za/event/finacial-abuse/
LOCATION:Door To Door\, Matsulu A\, Mbombela\, Mpumalanga\, 1203\, South Africa
END:VEVENT
BEGIN:VEVENT
DTSTART;TZID=UTC:20220707T080000
DTEND;TZID=UTC:20220707T170000
DTSTAMP:20260421T135652
CREATED:20220311T091601Z
LAST-MODIFIED:20220311T091601Z
UID:3092-1657180800-1657213200@masikhulumeni.co.za
SUMMARY:PSYCHOLOGICAL ABUSE
DESCRIPTION:
URL:https://masikhulumeni.co.za/event/psychological-abuse/
LOCATION:Door to Door B\, Matsulu B\, Mbombela\, Mpumalanga\, 1203\, South Africa
END:VEVENT
BEGIN:VEVENT
DTSTART;TZID=UTC:20220712T080000
DTEND;TZID=UTC:20220712T170000
DTSTAMP:20260421T135652
CREATED:20220311T091731Z
LAST-MODIFIED:20220311T091731Z
UID:3095-1657612800-1657645200@masikhulumeni.co.za
SUMMARY:ECONOMIC ABUSE AND DENIAL OF RESOURCES
DESCRIPTION:
URL:https://masikhulumeni.co.za/event/economic-abuse-and-denial-of-resources-2/
LOCATION:NKWALINI CLINI\, Matsulu B\, Mbombela\, Mpumalanga\, 1203\, South Africa
END:VEVENT
BEGIN:VEVENT
DTSTART;TZID=UTC:20220713T080000
DTEND;TZID=UTC:20220713T170000
DTSTAMP:20260421T135652
CREATED:20220311T092016Z
LAST-MODIFIED:20220311T092016Z
UID:3097-1657699200-1657731600@masikhulumeni.co.za
SUMMARY:EMOTIONAL AND VERBAL ABUSE
DESCRIPTION:
URL:https://masikhulumeni.co.za/event/emotional-and-verbal-abuse/
LOCATION:MASIBAMBISANE\, Matsulu A\, Mbombela\, Mpumalanga\, 1203\, South Africa
END:VEVENT
BEGIN:VEVENT
DTSTART;TZID=UTC:20220713T080000
DTEND;TZID=UTC:20220713T170000
DTSTAMP:20260421T135652
CREATED:20220311T092324Z
LAST-MODIFIED:20220311T092324Z
UID:3100-1657699200-1657731600@masikhulumeni.co.za
SUMMARY:SEXUAL ABUSE
DESCRIPTION:
URL:https://masikhulumeni.co.za/event/sexual-abuse/
LOCATION:KAPMUIDEN CLINIC\, Kapmuiden\, Mbombela\, Mpumalanga\, 1204\, South Africa
ORGANIZER;CN="COMFORT MDLULI":MAILTO:help@masikhulumeni.co.za
END:VEVENT
BEGIN:VEVENT
DTSTART;TZID=UTC:20220714T080000
DTEND;TZID=UTC:20220714T170000
DTSTAMP:20260421T135652
CREATED:20220311T092456Z
LAST-MODIFIED:20220311T092456Z
UID:3103-1657785600-1657818000@masikhulumeni.co.za
SUMMARY:HUMAN TRAFFICKING
DESCRIPTION:
URL:https://masikhulumeni.co.za/event/human-trafficking-3/
LOCATION:TSANDZANANI PRIMARY SCHOOL\, Matsulu A\, Mbombela\, Mpumalanga\, 1203\, South Africa
END:VEVENT
BEGIN:VEVENT
DTSTART;TZID=UTC:20220718T080000
DTEND;TZID=UTC:20220718T170000
DTSTAMP:20260421T135652
CREATED:20220311T092658Z
LAST-MODIFIED:20220311T092658Z
UID:3106-1658131200-1658163600@masikhulumeni.co.za
SUMMARY:DOMESTIC VIOLENCE (MANDELA DAY)
DESCRIPTION:
URL:https://masikhulumeni.co.za/event/domestic-violence-mandela-day/
LOCATION:TBA\, Matsulu A\, Mbombela\, Mpumalanga\, 1203\, South Africa
END:VEVENT
BEGIN:VEVENT
DTSTART;TZID=UTC:20220719T080000
DTEND;TZID=UTC:20220719T170000
DTSTAMP:20260421T135652
CREATED:20220311T092833Z
LAST-MODIFIED:20220311T092833Z
UID:3111-1658217600-1658250000@masikhulumeni.co.za
SUMMARY:SEXUAL VIOLENCE
DESCRIPTION:
URL:https://masikhulumeni.co.za/event/sexual-violence/
LOCATION:FUNINDLELA PRIMARY SCHOOL\, Matsulu C\, Mbombela\, Mpumalanga\, 1203\, South Africa
END:VEVENT
BEGIN:VEVENT
DTSTART;TZID=UTC:20220720T080000
DTEND;TZID=UTC:20220720T170000
DTSTAMP:20260421T135652
CREATED:20220311T092946Z
LAST-MODIFIED:20220311T092946Z
UID:3114-1658304000-1658336400@masikhulumeni.co.za
SUMMARY:EMOTIONAL VIOLENCE
DESCRIPTION:
URL:https://masikhulumeni.co.za/event/emotional-violence/
LOCATION:FUNINDLELA PRIMARY SCHOOL\, Matsulu C\, Mbombela\, Mpumalanga\, 1203\, South Africa
END:VEVENT
END:VCALENDAR