BEGIN:VCALENDAR
VERSION:2.0
PRODID:-//Masikhulumeni Madoda - ECPv6.10.1//NONSGML v1.0//EN
CALSCALE:GREGORIAN
METHOD:PUBLISH
X-WR-CALNAME:Masikhulumeni Madoda
X-ORIGINAL-URL:https://masikhulumeni.co.za
X-WR-CALDESC:Events for Masikhulumeni Madoda
REFRESH-INTERVAL;VALUE=DURATION:PT1H
X-Robots-Tag:noindex
X-PUBLISHED-TTL:PT1H
BEGIN:VTIMEZONE
TZID:UTC
BEGIN:STANDARD
TZOFFSETFROM:+0000
TZOFFSETTO:+0000
TZNAME:UTC
DTSTART:20220101T000000
END:STANDARD
END:VTIMEZONE
BEGIN:VEVENT
DTSTART;TZID=UTC:20220311T080000
DTEND;TZID=UTC:20220311T170000
DTSTAMP:20260421T175033
CREATED:20220311T101820Z
LAST-MODIFIED:20220311T101820Z
UID:3179-1646985600-1647018000@masikhulumeni.co.za
SUMMARY:EMOTIONAL ABUSE
DESCRIPTION:
URL:https://masikhulumeni.co.za/event/emotional-abuse-3/
LOCATION:LOWSCREEK CLINIC
END:VEVENT
END:VCALENDAR