BEGIN:VCALENDAR
VERSION:2.0
PRODID:-//Masikhulumeni Madoda - ECPv6.10.1//NONSGML v1.0//EN
CALSCALE:GREGORIAN
METHOD:PUBLISH
X-WR-CALNAME:Masikhulumeni Madoda
X-ORIGINAL-URL:https://masikhulumeni.co.za
X-WR-CALDESC:Events for Masikhulumeni Madoda
REFRESH-INTERVAL;VALUE=DURATION:PT1H
X-Robots-Tag:noindex
X-PUBLISHED-TTL:PT1H
BEGIN:VTIMEZONE
TZID:UTC
BEGIN:STANDARD
TZOFFSETFROM:+0000
TZOFFSETTO:+0000
TZNAME:UTC
DTSTART:20230101T000000
END:STANDARD
END:VTIMEZONE
BEGIN:VEVENT
DTSTART;TZID=UTC:20230310T080000
DTEND;TZID=UTC:20230310T170000
DTSTAMP:20260421T055203
CREATED:20220311T110339Z
LAST-MODIFIED:20220311T110339Z
UID:3235-1678435200-1678467600@masikhulumeni.co.za
SUMMARY:PHYSICAL ABUSE
DESCRIPTION:
URL:https://masikhulumeni.co.za/event/physical-abuse-4/
LOCATION:YOUTH CENTRE
END:VEVENT
BEGIN:VEVENT
DTSTART;TZID=UTC:20230314T080000
DTEND;TZID=UTC:20230314T170000
DTSTAMP:20260421T055203
CREATED:20220311T110457Z
LAST-MODIFIED:20220311T110457Z
UID:3238-1678780800-1678813200@masikhulumeni.co.za
SUMMARY:HOUSE BREAKING
DESCRIPTION:
URL:https://masikhulumeni.co.za/event/house-breaking/
LOCATION:THULANI (MATSULU C)\, Matsulu C\, Mbombela\, 1203\, South Africa
END:VEVENT
BEGIN:VEVENT
DTSTART;TZID=UTC:20230315T080000
DTEND;TZID=UTC:20230315T170000
DTSTAMP:20260421T055203
CREATED:20220311T110635Z
LAST-MODIFIED:20220311T110635Z
UID:3241-1678867200-1678899600@masikhulumeni.co.za
SUMMARY:INTIMATE PARTNER VIOLENCE
DESCRIPTION:
URL:https://masikhulumeni.co.za/event/intimate-partner-violence-2/
LOCATION:SBUSISIWE CAR WASH
ORGANIZER;CN="COMFORT MDLULI":MAILTO:help@masikhulumeni.co.za
END:VEVENT
BEGIN:VEVENT
DTSTART;TZID=UTC:20230320T080000
DTEND;TZID=UTC:20230320T170000
DTSTAMP:20260421T055203
CREATED:20220311T110836Z
LAST-MODIFIED:20220311T110836Z
UID:3244-1679299200-1679331600@masikhulumeni.co.za
SUMMARY:AWARENESS CAMPAIN ON HUMAN RIGHTS (HUMAN RIGHTS MONTH)
DESCRIPTION:
URL:https://masikhulumeni.co.za/event/awareness-campain-on-human-rights-human-rights-month/
LOCATION:MATSULU A HALL\, Matsulu A\, Mbombela\, 1203\, South Africa
END:VEVENT
END:VCALENDAR