BEGIN:VCALENDAR
VERSION:2.0
PRODID:-//Masikhulumeni Madoda - ECPv6.10.1//NONSGML v1.0//EN
CALSCALE:GREGORIAN
METHOD:PUBLISH
X-ORIGINAL-URL:https://masikhulumeni.co.za
X-WR-CALDESC:Events for Masikhulumeni Madoda
REFRESH-INTERVAL;VALUE=DURATION:PT1H
X-Robots-Tag:noindex
X-PUBLISHED-TTL:PT1H
BEGIN:VTIMEZONE
TZID:UTC
BEGIN:STANDARD
TZOFFSETFROM:+0000
TZOFFSETTO:+0000
TZNAME:UTC
DTSTART:20230101T000000
END:STANDARD
END:VTIMEZONE
BEGIN:VEVENT
DTSTART;TZID=UTC:20230202T080000
DTEND;TZID=UTC:20230202T170000
DTSTAMP:20260421T041304
CREATED:20220311T105439Z
LAST-MODIFIED:20220311T105439Z
UID:3222-1675324800-1675357200@masikhulumeni.co.za
SUMMARY:ECONOMIC ABUSE AND DENAIL ABUSE
DESCRIPTION:
URL:https://masikhulumeni.co.za/event/economic-abuse-and-denail-abuse/
LOCATION:BOXER SHOPPING COMPLEX\, Matsulu B\, Mbombela\, 1203\, South Africa
END:VEVENT
END:VCALENDAR