BEGIN:VCALENDAR
VERSION:2.0
PRODID:-//Masikhulumeni Madoda - ECPv6.10.1//NONSGML v1.0//EN
CALSCALE:GREGORIAN
METHOD:PUBLISH
X-ORIGINAL-URL:https://masikhulumeni.co.za
X-WR-CALDESC:Events for Masikhulumeni Madoda
REFRESH-INTERVAL;VALUE=DURATION:PT1H
X-Robots-Tag:noindex
X-PUBLISHED-TTL:PT1H
BEGIN:VTIMEZONE
TZID:UTC
BEGIN:STANDARD
TZOFFSETFROM:+0000
TZOFFSETTO:+0000
TZNAME:UTC
DTSTART:20220101T000000
END:STANDARD
END:VTIMEZONE
BEGIN:VEVENT
DTSTART;TZID=UTC:20221017T080000
DTEND;TZID=UTC:20221017T170000
DTSTAMP:20260421T104222
CREATED:20220311T101328Z
LAST-MODIFIED:20220311T101328Z
UID:3173-1665993600-1666026000@masikhulumeni.co.za
SUMMARY:AWARENESS CAMPAIGN ON EMOTIONAL ABUSE
DESCRIPTION:
URL:https://masikhulumeni.co.za/event/awareness-campaign-on-emotional-abuse/
LOCATION:COMFORT MDLULI
END:VEVENT
END:VCALENDAR