BEGIN:VCALENDAR
VERSION:2.0
PRODID:-//Masikhulumeni Madoda - ECPv6.10.1//NONSGML v1.0//EN
CALSCALE:GREGORIAN
METHOD:PUBLISH
X-ORIGINAL-URL:https://masikhulumeni.co.za
X-WR-CALDESC:Events for Masikhulumeni Madoda
REFRESH-INTERVAL;VALUE=DURATION:PT1H
X-Robots-Tag:noindex
X-PUBLISHED-TTL:PT1H
BEGIN:VTIMEZONE
TZID:UTC
BEGIN:STANDARD
TZOFFSETFROM:+0000
TZOFFSETTO:+0000
TZNAME:UTC
DTSTART:20220101T000000
END:STANDARD
END:VTIMEZONE
BEGIN:VEVENT
DTSTART;TZID=UTC:20221012T080000
DTEND;TZID=UTC:20221012T170000
DTSTAMP:20260421T104332
CREATED:20220311T100512Z
LAST-MODIFIED:20220311T100512Z
UID:3161-1665561600-1665594000@masikhulumeni.co.za
SUMMARY:ECONOMIC ABUSE AND DENIAL OF RESOURCES
DESCRIPTION:
URL:https://masikhulumeni.co.za/event/economic-abuse-and-denial-of-resources-4/
LOCATION:PHOLA NTSIKAZI CLINIC\, Kamashayane\, Mbombela\, Mpumalanga\, 1202\, South Africa
END:VEVENT
BEGIN:VEVENT
DTSTART;TZID=UTC:20221012T080000
DTEND;TZID=UTC:20221012T170000
DTSTAMP:20260421T104332
CREATED:20220311T100801Z
LAST-MODIFIED:20220311T100801Z
UID:3164-1665561600-1665594000@masikhulumeni.co.za
SUMMARY:DOMESTIC VIOLENCE
DESCRIPTION:
URL:https://masikhulumeni.co.za/event/domestic-violence-4/
LOCATION:DAYZENZA PLAZA
END:VEVENT
END:VCALENDAR