BEGIN:VCALENDAR
VERSION:2.0
PRODID:-//Masikhulumeni Madoda - ECPv6.10.1//NONSGML v1.0//EN
CALSCALE:GREGORIAN
METHOD:PUBLISH
X-WR-CALNAME:Masikhulumeni Madoda
X-ORIGINAL-URL:https://masikhulumeni.co.za
X-WR-CALDESC:Events for Masikhulumeni Madoda
REFRESH-INTERVAL;VALUE=DURATION:PT1H
X-Robots-Tag:noindex
X-PUBLISHED-TTL:PT1H
BEGIN:VTIMEZONE
TZID:UTC
BEGIN:STANDARD
TZOFFSETFROM:+0000
TZOFFSETTO:+0000
TZNAME:UTC
DTSTART:20220101T000000
END:STANDARD
END:VTIMEZONE
BEGIN:VEVENT
DTSTART;TZID=UTC:20220914T080000
DTEND;TZID=UTC:20220914T170000
DTSTAMP:20260421T122056
CREATED:20220311T095039Z
LAST-MODIFIED:20220311T095039Z
UID:3146-1663142400-1663174800@masikhulumeni.co.za
SUMMARY:AWARENESS CAMPAIGN ON HUMAN TRAFICKING IN PERSONS
DESCRIPTION:
URL:https://masikhulumeni.co.za/event/awareness-campaign-on-human-traficking-in-persons/
LOCATION:BENJAMINI PRIMARY SCHOOL\, Matsulu B\, Mbombela\, Mpumalanga\, 1203\, South Africa
END:VEVENT
END:VCALENDAR