BEGIN:VCALENDAR
VERSION:2.0
PRODID:-//Masikhulumeni Madoda - ECPv6.10.1//NONSGML v1.0//EN
CALSCALE:GREGORIAN
METHOD:PUBLISH
X-ORIGINAL-URL:https://masikhulumeni.co.za
X-WR-CALDESC:Events for Masikhulumeni Madoda
REFRESH-INTERVAL;VALUE=DURATION:PT1H
X-Robots-Tag:noindex
X-PUBLISHED-TTL:PT1H
BEGIN:VTIMEZONE
TZID:UTC
BEGIN:STANDARD
TZOFFSETFROM:+0000
TZOFFSETTO:+0000
TZNAME:UTC
DTSTART:20220101T000000
END:STANDARD
END:VTIMEZONE
BEGIN:VEVENT
DTSTART;TZID=UTC:20220602T080000
DTEND;TZID=UTC:20220602T170000
DTSTAMP:20260421T171448
CREATED:20220311T090253Z
LAST-MODIFIED:20220311T090253Z
UID:3070-1654156800-1654189200@masikhulumeni.co.za
SUMMARY:ADDUCTION AND FORCED MARRIAGE
DESCRIPTION:
URL:https://masikhulumeni.co.za/event/adduction-and-forced-marriage/
LOCATION:SIBONGILE PRIMARY SCHOOL\, MATSULU YOUTH CENTRE\, Mbombela\, Mpumalanga\, 1203\, South Africa
END:VEVENT
END:VCALENDAR