BEGIN:VCALENDAR
VERSION:2.0
PRODID:-//Masikhulumeni Madoda - ECPv6.10.1//NONSGML v1.0//EN
CALSCALE:GREGORIAN
METHOD:PUBLISH
X-ORIGINAL-URL:https://masikhulumeni.co.za
X-WR-CALDESC:Events for Masikhulumeni Madoda
REFRESH-INTERVAL;VALUE=DURATION:PT1H
X-Robots-Tag:noindex
X-PUBLISHED-TTL:PT1H
BEGIN:VTIMEZONE
TZID:UTC
BEGIN:STANDARD
TZOFFSETFROM:+0000
TZOFFSETTO:+0000
TZNAME:UTC
DTSTART:20220101T000000
END:STANDARD
END:VTIMEZONE
BEGIN:VEVENT
DTSTART;TZID=UTC:20220511T080000
DTEND;TZID=UTC:20220511T170000
DTSTAMP:20260421T184648
CREATED:20220309T125900Z
LAST-MODIFIED:20220309T125900Z
UID:3024-1652256000-1652288400@masikhulumeni.co.za
SUMMARY:AWARENES CAMPAIGN ON  CHILDREN’S RIGHTS (CHILD PROTECTION WEEK)
DESCRIPTION:
URL:https://masikhulumeni.co.za/event/awarenes-campaign-on-childrens-rights-child-protection-week/
LOCATION:MATSULU PRIMARY SCHOOL\, Matsulu A\, Mbombela\, Mpumalanga\, 1203\, South Africa
END:VEVENT
END:VCALENDAR